Workbook
Name OLE_LINK1: Alteração_de_Processo!$B$32

Sheet Texto
Q4: 6.

Sheet Protocolos
A1: Controladoria Geral do Município - Ouvidoria Geral
A2: SIGRC - Sistema Integrado de Gerenciamento e Relacionamento com o Cidadão
A3: 45992 | B3: 4735 | C3: -7.5736873
A4: Meses | B4: Protocolos | C4: Variação*
A5: 46023 | B5: =P25 -> 5809 | C5: =((B5-B3)/B3)*100 -> 22.682154
A6: 46054 | B6: =O25 -> 5557 | C6: =((B6-B5)/B5)*100 -> -4.3380961
A7: 46082 | B7: =N25 -> 6550 | C7: =((B7-B6)/B6)*100 -> 17.869354
A8: 46113 | B8: =M25 -> 5538 | C8: =((B8-B7)/B7)*100 -> -15.450382
A9: 46143 | B9: =L25 -> 5513 | C9: =((B9-B8)/B8)*100 -> -0.45142651
A10: 46174 | B10: =K25 -> 5247 | C10: =((B10-B9)/B9)*100 -> -4.8249592
A11: 46204 | B11: =J25 -> 6274 | C11: =((B11-B10)/B10)*100 -> 19.573089
A12: 46235 | B12: =I25 -> 6466 | C12: =((B12-B11)/B11)*100 -> 3.0602486
A13: 46266 | B13: =H25 -> 6244 | C13: =((B13-B12)/B12)*100 -> -3.4333436
A17: Total | B17: =SUM(B5:B16) -> 53198
A18: Média | B18: =AVERAGE(B5:B16) -> 5910.8889 | D18: Tipo de manifestação | E18: 46357 | F18: 46327 | G18: 46296 | H18: 46266 | I18: 46235 | J18: 46204 | K18: 46174 | L18: 46143 | M18: 46113 | N18: 46082 | O18: 46054 | P18: 46023 | Q18: Total | R18: %Total | S18: Média
D19: Denúncia | H19: 502 | I19: 455 | J19: 450 | K19: 440 | L19: 508 | M19: 398 | N19: 426 | O19: 351 | P19: 402 | Q19: =SUM(E19:P19) -> 3932 | R19: =(Q19/Q25)*100 -> 7.3912553 | S19: =AVERAGE(E19:P19) -> 436.88889 | T19: Denúncia
D20: Elogio | H20: 88 | I20: 86 | J20: 82 | K20: 49 | L20: 64 | M20: 69 | N20: 78 | O20: 74 | P20: 62 | Q20: =SUM(E20:P20) -> 652 | R20: =(Q20/Q25)*100 -> 1.22561 | S20: =AVERAGE(E20:P20) -> 72.444444 | T20: Elogio
D21: Manifestações sobre o BRT Aricanduva** | H21: 0 | I21: 3 | J21: 0 | K21: 1 | L21: 0 | M21: 0 | N21: 0 | O21: 0 | P21: 0 | Q21: =SUM(E21:P21) -> 4 | R21: =(Q21/Q25)*100 -> 0.0075190797 | S21: =AVERAGE(E21:P21) -> 0.44444444 | T21: BRT Aricanduva
D22: Reclamação | H22: 5203 | I22: 5531 | J22: 5402 | K22: 4477 | L22: 4669 | M22: 4633 | N22: 5579 | O22: 4750 | P22: 4968 | Q22: =SUM(E22:P22) -> 45212 | R22: =(Q22/Q25)*100 -> 84.988157 | S22: =AVERAGE(E22:P22) -> 5023.5556 | T22: Reclamação
D23: Solicitação | H23: 402 | I23: 347 | J23: 296 | K23: 231 | L23: 225 | M23: 397 | N23: 402 | O23: 321 | P23: 321 | Q23: =SUM(E23:P23) -> 2942 | R23: =(Q23/Q25)*100 -> 5.5302831 | S23: =AVERAGE(E23:P23) -> 326.88889 | T23: Solicitação
D24: Sugestão | H24: 49 | I24: 44 | J24: 44 | K24: 49 | L24: 47 | M24: 41 | N24: 65 | O24: 61 | P24: 56 | Q24: =SUM(E24:P24) -> 456 | R24: =(Q24/Q25)*100 -> 0.85717508 | S24: =AVERAGE(E24:P24) -> 50.666667 | T24: Sugestão
D25: Total Geral | E25: =SUM(E19:E24) -> 0 | F25: =SUM(F19:F24) -> 0 | G25: =SUM(G19:G24) -> 0 | H25: =SUM(H19:H24) -> 6244 | I25: =SUM(I19:I24) -> 6466 | J25: =SUM(J19:J24) -> 6274 | K25: =SUM(K19:K24) -> 5247 | L25: =SUM(L19:L24) -> 5513 | ... R25: =SUM(R19:R24) -> 100 | S25: =AVERAGEIF(E25:P25,">0") -> 5910.8889
D27: Detalhamento | Manifestações sobre o BRT Aricanduva**
D28: Nota: Esta tabela apresenta a segmentação das manifestações recebidas através do formulário de "Manifestações sobre o BRT Aricanduva". Os números abaixo estão incluídos no total geral da tabela "Tipo de manifestação". A natureza das denúncias está detalhada na aba "Denúncia_Protocolos".
D29: Tipo de manifestação | E29: 46357 | F29: 46327 | G29: 46296 | H29: 46266 | I29: 46235 | J29: 46204 | K29: 46174 | L29: 46143 | M29: 46113 | N29: 46082 | O29: 46054 | P29: 46023 | Q29: Total
D30: Denúncia | H30: 0 | I30: 0 | J30: 0 | K30: 0 | L30: 0 | M30: 0 | N30: 0 | O30: 0 | P30: 0 | Q30: =SUM(E30:P30) -> 0
D31: Elogio | H31: 0 | I31: 0 | J31: 0 | K31: 0 | L31: 0 | M31: 0 | N31: 0 | O31: 0 | P31: 0 | Q31: =SUM(E31:P31) -> 0
D32: Reclamação | H32: 0 | I32: 2 | J32: 0 | K32: 1 | L32: 0 | M32: 0 | N32: 0 | O32: 0 | P32: 0 | Q32: =SUM(E32:P32) -> 3
D33: Solicitação | H33: 0 | I33: 0 | J33: 0 | K33: 0 | L33: 0 | M33: 0 | N33: 0 | O33: 0 | P33: 0 | Q33: =SUM(E33:P33) -> 0
D34: Sugestão | H34: 0 | I34: 1 | J34: 0 | K34: 0 | L34: 0 | M34: 0 | N34: 0 | O34: 0 | P34: 0 | Q34: =SUM(E34:P34) -> 1
D35: Total Geral | E35: =SUM(E30:E34) -> 0 | F35: =SUM(F30:F34) -> 0 | G35: =SUM(G30:G34) -> 0 | H35: =SUM(H30:H34) -> 0 | I35: =SUM(I30:I34) -> 3 | J35: =SUM(J30:J34) -> 0 | K35: =SUM(K30:K34) -> 1 | L35: =SUM(L30:L34) -> 0 | ... Q35: =SUM(Q30:Q34) -> 4
A38: * Variação percentual em relação ao mês imediatamente anterior.
A41: ** A opção do serviço "Manifestações sobre o BRT Aricanduva", referente à obra de implantação do BRT Aricanduva e do novo Centro de Operações da SPTrans (COP), foi incluída o Portal SP156 em outubro de 2024.

Sheet Elogios_Sugestões
A1: Controladoria Geral do Município - Ouvidoria Geral
A2: SIGRC - Sistema Integrado de Gerenciamento e Relacionamento com o Cidadão
B6: Tipo de manifestação | C6: 46023 | D6: 46054 | E6: 46082 | F6: 46113 | G6: 46143 | H6: 46174 | I6: 46204 | J6: 46235 | K6: 46266 | L6: 46296 | M6: 46327 | N6: 46357
B7: Elogio | C7: 62 | D7: 74 | E7: 78 | F7: 69 | G7: 64 | H7: 49 | I7: 82 | J7: 86 | K7: 88
B8: Sugestão | C8: 56 | D8: 61 | E8: 65 | F8: 41 | G8: 47 | H8: 49 | I8: 44 | J8: 44 | K8: 49

Sheet Canais_atendimento
A1: Controladoria Geral do Município - Ouvidoria Geral
A2: SIGRC - Sistema Integrado de Gerenciamento e Relacionamento com o Cidadão
A4: ATENDIMENTOS | B4: 46357 | C4: nov/26 | D4: out/26 | E4: 46266 | F4: 46235 | G4: 46204 | H4: 46174 | I4: 46143 | J4: 46113 | K4: 46082 | L4: 46054 | M4: 46023 | N4: Total | O4: Média | P4: %Total | Q4: % Canais de entrada SET/26
A5: Carta | E5: 15 | F5: 78 | G5: 11 | H5: 12 | I5: 10 | J5: 4 | K5: 9 | L5: 10 | M5: 6 | N5: =SUM(B5:M5) -> 155 | O5: =AVERAGE(B5:M5) -> 17.222222 | P5: =N5/N$13*100 -> 0.29136434 | Q5: =(E5*100)/$F$13 -> 0.23198268
A6: Central SP156 | E6: 1404 | F6: 1465 | G6: 1513 | H6: 1170 | I6: 1137 | J6: 1218 | K6: 1465 | L6: 1260 | M6: 1124 | N6: =SUM(B6:M6) -> 11756 | O6: =AVERAGE(B6:M6) -> 1306.2222 | P6: =N6/N$13*100 -> 22.098575 | Q6: =(E6*100)/$F$13 -> 21.713579
A7: Zap Denúncia | E7: 609 | F7: 635 | G7: 498 | H7: 419 | I7: 514 | J7: 591 | K7: 783 | L7: 610 | M7: 538 | N7: =SUM(B7:M7) -> 5197 | O7: =AVERAGE(B7:M7) -> 577.44444 | P7: =N7/N$13*100 -> 9.7691643 | Q7: =(E7*100)/$F$13 -> 9.4184968
A8: E-mail | E8: 899 | F8: 1197 | G8: 1540 | H8: 1137 | I8: 1184 | J8: 829 | K8: 976 | L8: 723 | M8: 917 | N8: =SUM(B8:M8) -> 9402 | O8: =AVERAGE(B8:M8) -> 1044.6667 | P8: =N8/N$13*100 -> 17.673597 | Q8: =(E8*100)/$F$13 -> 13.903495
A9: Encaminhamento de outros órgãos (Processo SEI, Memorando, Ofício, etc.) | E9: 74 | F9: 59 | G9: 91 | H9: 56 | I9: 215 | J9: 146 | K9: 222 | L9: 116 | M9: 143 | N9: =SUM(B9:M9) -> 1122 | O9: =AVERAGE(B9:M9) -> 124.66667 | P9: =N9/N$13*100 -> 2.1091018 | Q9: =(E9*100)/$F$13 -> 1.1444479
A10: App SP156 | E10: 66 | F10: 60 | G10: 60 | H10: 53 | I10: 72 | J10: 106 | K10: 108 | L10: 81 | M10: 92 | N10: =SUM(B10:M10) -> 698 | O10: =AVERAGE(B10:M10) -> 77.555556 | P10: =N10/N$13*100 -> 1.3120794 | Q10: =(E10*100)/$F$13 -> 1.0207238
A11: Portal | E11: 3092 | F11: 2848 | G11: 2430 | H11: 2319 | I11: 2303 | J11: 2479 | K11: 2759 | L11: 2608 | M11: 2802 | N11: =SUM(B11:M11) -> 23640 | O11: =AVERAGE(B11:M11) -> 2626.6667 | P11: =N11/N$13*100 -> 44.437761 | Q11: =(E11*100)/$F$13 -> 47.819363
A12: Presencial | E12: 85 | F12: 124 | G12: 131 | H12: 81 | I12: 78 | J12: 165 | K12: 228 | L12: 149 | M12: 187 | N12: =SUM(B12:M12) -> 1228 | O12: =AVERAGE(B12:M12) -> 136.44444 | P12: =N12/N$13*100 -> 2.3083575 | Q12: =(E12*100)/$F$13 -> 1.3145685
A13: TOTAL | B13: =SUM(B5:B12) -> 0 | C13: =SUM(C5:C12) -> 0 | D13: =SUM(D5:D12) -> 0 | E13: =SUM(E5:E12) -> 6244 | F13: =SUM(F5:F12) -> 6466 | G13: =SUM(G5:G12) -> 6274 | H13: =SUM(H5:H12) -> 5247 | I13: =SUM(I5:I12) -> 5513 | ... N13: =SUM(N5:N12) -> 53198 | O13: =AVERAGEIF(B13:M13,">0") -> 5910.8889 | P13: =N13/N$13*100 -> 100 | Q13: =(E13*100)/$F$13 -> 96.566656

Sheet Fora da competência
A11: Fora da Competência 2026
A12: Meses | B12: Protocolos | C12: Variação*
A13: 46023 | B13: 143 | C13: =((B13-161)/161)*100 -> -11.180124
A14: 46054 | B14: 80 | C14: =((B14-B13)/B13)*100 -> -44.055944
A15: 46082 | B15: 154 | C15: =((B15-B14)/B14)*100 -> 92.5
A16: 46113 | B16: 142 | C16: =((B16-B15)/B15)*100 -> -7.7922078
A17: 46143 | B17: 179 | C17: =((B17-B16)/B16)*100 -> 26.056338
A18: 46174 | B18: 130 | C18: =((B18-B17)/B17)*100 -> -27.374302
A19: 46204 | B19: 170 | C19: =((B19-B18)/B18)*100 -> 30.769231
A20: 46235 | B20: 108 | C20: =((B20-B19)/B19)*100 -> -36.470588
A21: 46266 | B21: 93 | C21: =((B21-B20)/B20)*100 -> -13.888889
A22: 46296 | B22: 0 | C22: =((B22-B21)/B21)*100 -> -100
A23: 46327 | B23: 0 | C23: =((B23-B22)/B22)*100 -> #DIV/0!
A24: 46357 | B24: 0 | C24: =((B24-B23)/B23)*100 -> #DIV/0!
A25: Total | B25: =SUM(B13:B24) -> 1199
A27: * Variação percentual em relação ao mês imediatamente anterior.
A30: ** Em fevereiro de 2026, a nomenclatura “Órgãos Externos” foi alterada para “Fora da Competência da Municipalidade”.
A33: Competência Estadual | B33: 9
A34: Outros Municípios | B34: 21
A35: Outros Órgãos | B35: 63
A36: Total Geral | B36: =SUM(B33:B35) -> 93
A39: Canal | B39: Protocolos
A40: App SP156 | B40: 1
A41: Carta | B41: 2
A42: Central SP156 | B42: 0
A43: E-mail | B43: 45
A44: Encaminhamento de outros órgãos (Processo SEI, Memorando, Ofício, etc.) - referenciar na descrição | B44: 2
A45: PORTAL | B45: 19
A46: Presencial | B46: 4
A47: Zap Denúncia | B47: 20
A48: Total Geral | B48: =SUM(B40:B47) -> 93

Sheet Buraco-Pavimentação_SET_2026
A1: Controladoria Geral do Município - Ouvidoria Geral
A2: SIGRC - Sistema Integrado de Gerenciamento e Relacionamento com o Cidadão
A4: ASSUNTO - Buraco e Pavimentação (Guia Portal 156)* | B4: 46266
A5: Secretaria Municipal das Subprefeituras | B5: 264
A6: São Paulo Transportes - SPTrans | B6: 2
A7: Secretaria Municipal de Infraestrutura Urbana e Obras | B7: 2
A8: Subprefeituras | B8: 49
A9: TOTAL | B9: =SUM(B5:B8) -> 317
A11: Tapa buraco - Secretaria Municipal das Subprefeituras: https://sp156.prefeitura.sp.gov.br/portal/servicos/informacao?servico=952
A14: Tapa Buraco em faixa exlusiva de ônibus - São Paulo Transportes: https://sp156.prefeitura.sp.gov.br/portal/servicos/informacao?servico=3170
A16: Solicitar vistoria e reparo em pontes e viadutos - Secretaria Municipal de Infraestrutura Urbana e Obras: https://sp156.prefeitura.sp.gov.br/portal/servicos/informacao?servico=3381
A18: * Em decorrência da troca de sistema ocorrida em Dez/2016, a metodologia atualmente aplicada para a classificação dos assuntos é a Guia de Serviços do Portal 156 (As Denúncias não estão sendo contabilizadas nessa aba da planilha, pois esses dados estão sendo exibidos em abas específicas).

Sheet Assuntos
A1: Controladoria Geral do Município - Ouvidoria Geral
A2: SIGRC - Sistema Integrado de Gerenciamento e Relacionamento com o Cidadão
A4: ASSUNTO (Guia Portal 156)* | B4: 46357 | C4: 46327 | D4: 46296 | E4: 46266 | F4: 46235 | G4: 46204 | H4: 46174 | I4: 46143 | J4: 46113 | K4: 46082 | L4: 46054 | M4: 46023 | N4: Total | O4: Média | P4: % Total
A5: Acervo da Secretaria de Educação | E5: 0 | F5: 0 | G5: 0 | H5: 0 | I5: 0 | J5: 0 | K5: 0 | L5: 0 | M5: 0 | N5: =SUM(B5:M5) -> 0 | O5: =AVERAGE(B5:M5) -> 0 | P5: =(N5/$N$276)*100 -> 0
A6: Acervos e Bibliotecas | E6: 0 | F6: 0 | G6: 0 | H6: 0 | I6: 0 | J6: 0 | K6: 0 | L6: 1 | M6: 0 | N6: =SUM(B6:M6) -> 1 | O6: =AVERAGE(B6:M6) -> 0.11111111 | P6: =(N6/$N$276)*100 -> 0.0020297974
A7: Acessibilidade digital | E7: 0 | F7: 0 | G7: 0 | H7: 0 | I7: 0 | J7: 0 | K7: 0 | L7: 0 | M7: 0 | N7: =SUM(B7:M7) -> 0 | O7: =AVERAGE(B7:M7) -> 0 | P7: =(N7/$N$276)*100 -> 0
A8: Acessibilidade em edificações | E8: 3 | F8: 6 | G8: 3 | H8: 4 | I8: 3 | J8: 1 | K8: 2 | L8: 1 | M8: 2 | N8: =SUM(B8:M8) -> 25 | O8: =AVERAGE(B8:M8) -> 2.7777778 | P8: =(N8/$N$276)*100 -> 0.050744936
A9: Acesso à informação | E9: 10 | F9: 8 | G9: 5 | H9: 2 | I9: 3 | J9: 8 | K9: 5 | L9: 3 | M9: 2 | N9: =SUM(B9:M9) -> 46 | O9: =AVERAGE(B9:M9) -> 5.1111111 | P9: =(N9/$N$276)*100 -> 0.093370682
A10: Adoção de animais | E10: 0 | F10: 0 | G10: 1 | H10: 1 | I10: 0 | J10: 0 | K10: 0 | L10: 1 | M10: 0 | N10: =SUM(B10:M10) -> 3 | O10: =AVERAGE(B10:M10) -> 0.33333333 | P10: =(N10/$N$276)*100 -> 0.0060893923
A11: Agendamento eletrônico | E11: 0 | F11: 0 | G11: 0 | H11: 0 | I11: 0 | J11: 2 | K11: 1 | L11: 3 | M11: 2 | N11: =SUM(B11:M11) -> 8 | O11: =AVERAGE(B11:M11) -> 0.88888889 | P11: =(N11/$N$276)*100 -> 0.016238379
A12: Água subterrânea/Curso d'água | E12: 0 | F12: 1 | G12: 0 | H12: 0 | I12: 0 | J12: 0 | K12: 0 | L12: 0 | M12: 0 | N12: =SUM(B12:M12) -> 1 | O12: =AVERAGE(B12:M12) -> 0.11111111 | P12: =(N12/$N$276)*100 -> 0.0020297974
A13: Álcool e outras drogas | E13: 0 | F13: 2 | G13: 2 | H13: 0 | I13: 1 | J13: 2 | K13: 0 | L13: 0 | M13: 1 | N13: =SUM(B13:M13) -> 8 | O13: =AVERAGE(B13:M13) -> 0.88888889 | P13: =(N13/$N$276)*100 -> 0.016238379
A14: Alimentação escolar | E14: 0 | F14: 1 | G14: 4 | H14: 11 | I14: 0 | J14: 1 | K14: 1 | L14: 2 | M14: 2 | N14: =SUM(B14:M14) -> 22 | O14: =AVERAGE(B14:M14) -> 2.4444444 | P14: =(N14/$N$276)*100 -> 0.044655543
A15: Alistamento e Serviço Militar | E15: 0 | F15: 0 | G15: 1 | H15: 1 | I15: 0 | J15: 0 | K15: 0 | L15: 0 | M15: 0 | N15: =SUM(B15:M15) -> 2 | O15: =AVERAGE(B15:M15) -> 0.22222222 | P15: =(N15/$N$276)*100 -> 0.0040595949
A16: Ambulantes | E16: 10 | F16: 10 | G16: 7 | H16: 17 | I16: 10 | J16: 9 | K16: 16 | L16: 7 | M16: 11 | N16: =SUM(B16:M16) -> 97 | O16: =AVERAGE(B16:M16) -> 10.777778 | P16: =(N16/$N$276)*100 -> 0.19689035
... A275: Zona Azul | E275: 2 | F275: 9 | G275: 2 | H275: 3 | I275: 0 | J275: 0 | K275: 3 | L275: 2 | M275: 5 | N275: =SUM(B275:M275) -> 26 | O275: =AVERAGE(B275:M275) -> 2.8888889 | P275: =(N275/$N$276)*100 -> 0.052774733
A276: Total | E276: =SUM(E5:E275) -> 5742 | F276: =SUM(F5:F275) -> 6011 | G276: =SUM(G5:G275) -> 5824 | H276: =SUM(H5:H275) -> 4807 | I276: =SUM(I5:I275) -> 5005 | J276: =SUM(J5:J275) -> 5140 | K276: =SUM(K5:K275) -> 6124 | L276: =SUM(L5:L275) -> 5206 | M276: =SUM(M5:M275) -> 5407 | N276: =SUM(B276:M276) -> 49266 | O276: =AVERAGE(B276:M276) -> 5474 | P276: =(N276/$N$276)*100 -> 100
A277: * Em decorrência da troca de sistema ocorrida em Dez/2016, a metodologia atualmente aplicada para a classificação dos assuntos é a Guia de Serviços do Portal 156 (As Denúncias não estão sendo contabilizadas nessa aba da planilha, pois esses dados estão sendo exibidos em abas específicas).
A278: **Os protocolos classificadas como assunto "não identificado", são reclamações recebidas no sistema sem que se tenha o registro do assunto demandado.

Sheet 10+_Assuntos_2026
A1: Controladoria Geral do Município - Ouvidoria Geral | O1: =Assuntos!E276 -> 5742
A2: SIGRC - Sistema Integrado de Gerenciamento e Relacionamento com o Cidadão
A4: Assuntos - 10 mais solicitados de 2026 (Média)
A6: ASSUNTO (Guia Portal 156)* | B6: 46357 | C6: 46327 | D6: 46296 | E6: 46266 | F6: 46235 | G6: 46204 | H6: 46174 | I6: 46143 | J6: 46113 | K6: 46082 | L6: 46054 | M6: 46023 | N6: Total | O6: Média | P6: % em relação ao todo de SET/26 (excetuando-se denúncias)
A7: Qualidade de atendimento | E7: 484 | F7: 450 | G7: 386 | H7: 262 | I7: 307 | J7: 272 | K7: 323 | L7: 282 | M7: 343 | N7: 3110 | O7: =AVERAGE(B7:M7) -> 345.44444 | P7: =(E7*100)/$O$1 -> 8.4291188
A8: Ônibus | E8: 310 | F8: 275 | G8: 190 | H8: 214 | I8: 222 | J8: 251 | K8: 257 | L8: 251 | M8: 169 | N8: 2139 | O8: =AVERAGE(B8:M8) -> 237.66667 | P8: =(E8*100)/$O$1 -> 5.3988157
A9: Buraco e Pavimentação | E9: 317 | F9: 255 | G9: 272 | H9: 207 | I9: 190 | J9: 235 | K9: 330 | L9: 153 | M9: 175 | N9: 2134 | O9: =AVERAGE(B9:M9) -> 237.11111 | P9: =(E9*100)/$O$1 -> 5.5207245
A10: Árvore | E10: 255 | F10: 270 | G10: 217 | H10: 172 | I10: 181 | J10: 200 | K10: 203 | L10: 234 | M10: 264 | N10: 1996 | O10: =AVERAGE(B10:M10) -> 221.77778 | P10: =(E10*100)/$O$1 -> 4.4409613
A11: Processo Administrativo | E11: 260 | F11: 292 | G11: 227 | H11: 210 | I11: 199 | J11: 139 | K11: 200 | L11: 161 | M11: 217 | N11: 1905 | O11: =AVERAGE(B11:M11) -> 211.66667 | P11: =(E11*100)/$O$1 -> 4.528039
A12: Veículos abandonados | E12: 219 | F12: 238 | G12: 201 | H12: 246 | I12: 156 | J12: 166 | K12: 146 | L12: 101 | M12: 177 | N12: 1650 | O12: =AVERAGE(B12:M12) -> 183.33333 | P12: =(E12*100)/$O$1 -> 3.8140021
A13: Ponto viciado, entulho e caçamba de entulho | E13: 175 | F13: 149 | G13: 213 | H13: 155 | I13: 140 | J13: 172 | K13: 224 | L13: 212 | M13: 198 | N13: 1638 | O13: =AVERAGE(B13:M13) -> 182 | P13: =(E13*100)/$O$1 -> 3.0477186
A14: Multas de trânsito e guinchamentos | E14: 209 | F14: 199 | G14: 179 | H14: 184 | I14: 149 | J14: 160 | K14: 160 | L14: 142 | M14: 165 | N14: 1547 | O14: =AVERAGE(B14:M14) -> 171.88889 | P14: =(E14*100)/$O$1 -> 3.6398467
A15: Poluição sonora - PSIU | E15: 150 | F15: 184 | G15: 225 | H15: 173 | I15: 162 | J15: 187 | K15: 214 | L15: 110 | M15: 137 | N15: 1542 | O15: =AVERAGE(B15:M15) -> 171.33333 | P15: =(E15*100)/$O$1 -> 2.6123302
A16: Calçadas, guias e postes | E16: 140 | F16: 155 | G16: 148 | H16: 139 | I16: 175 | J16: 144 | K16: 167 | L16: 145 | M16: 147 | N16: 1360 | O16: =AVERAGE(B16:M16) -> 151.11111 | P16: =(E16*100)/$O$1 -> 2.4381749
A17: Total | E17: =SUM(E7:E16) -> 2519 | F17: =SUM(F7:F16) -> 2467 | G17: =SUM(G7:G16) -> 2258 | H17: =SUM(H7:H16) -> 1962 | I17: =SUM(I7:I16) -> 1881 | J17: =SUM(J7:J16) -> 1926 | K17: =SUM(K7:K16) -> 2224 | L17: =SUM(L7:L16) -> 1791 | ... N17: =SUM(N7:N16) -> 19021 | O17: =AVERAGE(B17:M17) -> 2113.3333 | P17: =(E17*100)/$O$1 -> 43.869732
A18: Outros | N18: %total | O18: =100-P17 -> 56.130268
A27: * Em decorrência da troca de sistema ocorrida em Dez/2016, a metodologia atualmente aplicada para a classificação dos assuntos é a Guia de Serviços do Portal 156 (As Denúncias não estão sendo contabilizadas nessa aba da planilha, pois esses dados estão sendo exibidos em abas específicas).

Sheet Assuntos-variação_10_mais_2026
A1: Controladoria Geral do Município - Ouvidoria Geral
A2: SIGRC - Sistema Integrado de Gerenciamento e Relacionamento com o Cidadão
A4: Assuntos - variação dos 10 mais solicitados de 2026 (MÉDIA)
A6: *Protocolos - valores absolutos do mês
A7: ** Variação percentual em relação ao mês imediatamente anterior.
B8: 270 | F8: 234 | J8: 21 | N8: 149
A9: ='10+_Assuntos_2026'!A7 -> Qualidade de atendimento | E9: ='10+_Assuntos_2026'!A8 -> Ônibus | I9: ='10+_Assuntos_2026'!A9 -> Buraco e Pavimentação | M9: ='10+_Assuntos_2026'!A10 -> Árvore
A10: Meses | B10: Protocolos* | C10: Variação** | E10: Meses | F10: Protocolos* | G10: Variação** | I10: Meses | J10: Protocolos* | K10: Variação** | M10: Meses | N10: Protocolos* | O10: Variação**
A11: 46023 | B11: ='10+_Assuntos_2026'!M7 -> 343 | C11: =((B11-B8)/B8)*100 -> 27.037037 | E11: 46023 | F11: ='10+_Assuntos_2026'!M8 -> 169 | G11: =((F11-F8)/F8)*100 -> -27.777778 | I11: 46023 | J11: ='10+_Assuntos_2026'!M9 -> 175 | K11: =((J11-J8)/J8)*100 -> 733.33333 | M11: 46023 | N11: ='10+_Assuntos_2026'!M10 -> 264 | O11: =((N11-N8)/J8)*100 -> 547.61905
A12: 46054 | B12: ='10+_Assuntos_2026'!L7 -> 282 | C12: =((B12-B11)/B11)*100 -> -17.784257 | E12: 46054 | F12: ='10+_Assuntos_2026'!L8 -> 251 | G12: =((F12-F11)/F11)*100 -> 48.52071 | I12: 46054 | J12: ='10+_Assuntos_2026'!L9 -> 153 | K12: =((J12-J11)/J11)*100 -> -12.571429 | M12: 46054 | N12: ='10+_Assuntos_2026'!L10 -> 234 | O12: =((N12-N11)/N11)*100 -> -11.363636
A13: 46082 | B13: ='10+_Assuntos_2026'!K7 -> 323 | C13: =((B13-B12)/B12)*100 -> 14.539007 | E13: 46082 | F13: ='10+_Assuntos_2026'!K8 -> 257 | G13: =((F13-F12)/F12)*100 -> 2.3904382 | I13: 46082 | J13: ='10+_Assuntos_2026'!K9 -> 330 | K13: =((J13-J12)/J12)*100 -> 115.68627 | M13: 46082 | N13: ='10+_Assuntos_2026'!K10 -> 203 | O13: =((N13-N12)/N12)*100 -> -13.247863
A14: 46113 | B14: ='10+_Assuntos_2026'!J$7 -> 272 | C14: =((B14-B13)/B13)*100 -> -15.789474 | E14: 46113 | F14: ='10+_Assuntos_2026'!J$8 -> 251 | G14: =((F14-F13)/F13)*100 -> -2.3346304 | I14: 46113 | J14: ='10+_Assuntos_2026'!J$9 -> 235 | K14: =((J14-J13)/J13)*100 -> -28.787879 | M14: 46113 | N14: ='10+_Assuntos_2026'!J$10 -> 200 | O14: =((N14-N13)/N13)*100 -> -1.4778325
A15: 46143 | B15: ='10+_Assuntos_2026'!I$7 -> 307 | C15: =((B15-B14)/B14)*100 -> 12.867647 | E15: 46143 | F15: ='10+_Assuntos_2026'!I$8 -> 222 | G15: =((F15-F14)/F14)*100 -> -11.553785 | I15: 46143 | J15: ='10+_Assuntos_2026'!I$9 -> 190 | K15: =((J15-J14)/J14)*100 -> -19.148936 | M15: 46143 | N15: ='10+_Assuntos_2026'!I$10 -> 181 | O15: =((N15-N14)/N14)*100 -> -9.5
A16: 46174 | B16: ='10+_Assuntos_2026'!H$7 -> 262 | C16: =((B16-B15)/B15)*100 -> -14.65798 | E16: 46174 | F16: ='10+_Assuntos_2026'!H$8 -> 214 | G16: =((F16-F15)/F15)*100 -> -3.6036036 | I16: 46174 | J16: ='10+_Assuntos_2026'!H$9 -> 207 | K16: =((J16-J15)/J15)*100 -> 8.9473684 | M16: 46174 | N16: ='10+_Assuntos_2026'!H$10 -> 172 | O16: =((N16-N15)/N15)*100 -> -4.9723757
A17: 46204 | B17: ='10+_Assuntos_2026'!G$7 -> 386 | C17: =((B17-B16)/B16)*100 -> 47.328244 | E17: 46204 | F17: ='10+_Assuntos_2026'!G$8 -> 190 | G17: =((F17-F16)/F16)*100 -> -11.214953 | I17: 46204 | J17: ='10+_Assuntos_2026'!G$9 -> 272 | K17: =((J17-J16)/J16)*100 -> 31.400966 | M17: 46204 | N17: ='10+_Assuntos_2026'!G$10 -> 217 | O17: =((N17-N16)/N16)*100 -> 26.162791
A18: 46235 | B18: ='10+_Assuntos_2026'!F$7 -> 450 | C18: =((B18-B17)/B17)*100 -> 16.580311 | E18: 46235 | F18: ='10+_Assuntos_2026'!F$8 -> 275 | G18: =((F18-F17)/F17)*100 -> 44.736842 | I18: 46235 | J18: ='10+_Assuntos_2026'!F$9 -> 255 | K18: =((J18-J17)/J17)*100 -> -6.25 | M18: 46235 | N18: ='10+_Assuntos_2026'!F$10 -> 270 | O18: =((N18-N17)/N17)*100 -> 24.423963
A19: 46266 | B19: ='10+_Assuntos_2026'!E$7 -> 484 | C19: =((B19-B18)/B18)*100 -> 7.5555556 | E19: 46266 | F19: ='10+_Assuntos_2026'!E$8 -> 310 | G19: =((F19-F18)/F18)*100 -> 12.727273 | I19: 46266 | J19: ='10+_Assuntos_2026'!E$9 -> 317 | K19: =((J19-J18)/J18)*100 -> 24.313725 | M19: 46266 | N19: ='10+_Assuntos_2026'!E$10 -> 255 | O19: =((N19-N18)/N18)*100 -> -5.5555556
A20: 46296 | B20: ='10+_Assuntos_2026'!D$7 -> 0 | C20: =((B20-B19)/B19)*100 -> -100 | E20: 46296 | F20: ='10+_Assuntos_2026'!D$8 -> 0 | G20: =((F20-F19)/F19)*100 -> -100 | I20: 46296 | J20: ='10+_Assuntos_2026'!D$9 -> 0 | K20: =((J20-J19)/J19)*100 -> -100 | M20: 46296 | N20: ='10+_Assuntos_2026'!D$10 -> 0 | O20: =((N20-N19)/N19)*100 -> -100
A21: 46327 | B21: ='10+_Assuntos_2026'!C$7 -> 0 | C21: =((B21-B20)/B20)*100 -> #DIV/0! | E21: 46327 | F21: ='10+_Assuntos_2026'!C$8 -> 0 | G21: =((F21-F20)/F20)*100 -> #DIV/0! | I21: 46327 | J21: ='10+_Assuntos_2026'!C$9 -> 0 | K21: =((J21-J20)/J20)*100 -> #DIV/0! | M21: 46327 | N21: ='10+_Assuntos_2026'!C$10 -> 0 | O21: =((N21-N20)/N20)*100 -> #DIV/0!
A22: 46357 | B22: ='10+_Assuntos_2026'!B$7 -> 0 | C22: =((B22-B21)/B21)*100 -> #DIV/0! | E22: 46357 | F22: ='10+_Assuntos_2026'!B$8 -> 0 | G22: =((F22-F21)/F21)*100 -> #DIV/0! | I22: 46357 | J22: ='10+_Assuntos_2026'!B$9 -> 0 | K22: =((J22-J21)/J21)*100 -> #DIV/0! | M22: 46357 | N22: ='10+_Assuntos_2026'!B$10 -> 0 | O22: =((N22-N21)/N21)*100 -> #DIV/0!
B24: 175 | F24: 142 | J24: 181 | N24: 168
A25: ='10+_Assuntos_2026'!A11 -> Processo Administrativo | E25: ='10+_Assuntos_2026'!A12 -> Veículos abandonados | I25: ='10+_Assuntos_2026'!A13 -> Ponto viciado, entulho e caçamba de entulho | M25: ='10+_Assuntos_2026'!A14 -> Multas de trânsito e guinchamentos
A26: Meses | B26: Protocolos* | C26: Variação** | E26: Meses | F26: Protocolos* | G26: Variação** | I26: Meses | J26: Protocolos* | K26: Variação** | M26: Meses | N26: Protocolos* | O26: Variação**
A27: 46023 | B27: ='10+_Assuntos_2026'!M11 -> 217 | C27: =((B27-B24)/B24)*100 -> 24 | E27: 46023 | F27: ='10+_Assuntos_2026'!M12 -> 177 | G27: =((F27-F24)/F24)*100 -> 24.647887 | I27: 46023 | J27: ='10+_Assuntos_2026'!M13 -> 198 | K27: =((J27-J24)/J24)*100 -> 9.3922652 | M27: 46023 | N27: ='10+_Assuntos_2026'!M14 -> 165 | O27: =((N27-N24)/N24)*100 -> -1.7857143
A28: 46054 | B28: ='10+_Assuntos_2026'!L11 -> 161 | C28: =((B28-B27)/B27)*100 -> -25.806452 | E28: 46054 | F28: ='10+_Assuntos_2026'!L12 -> 101 | G28: =((F28-F27)/F27)*100 -> -42.937853 | I28: 46054 | J28: ='10+_Assuntos_2026'!L13 -> 212 | K28: =((J28-J27)/J27)*100 -> 7.0707071 | M28: 46054 | N28: ='10+_Assuntos_2026'!L14 -> 142 | O28: =((N28-N27)/N27)*100 -> -13.939394
A29: 46082 | B29: ='10+_Assuntos_2026'!K11 -> 200 | C29: =((B29-B28)/B28)*100 -> 24.223602 | E29: 46082 | F29: ='10+_Assuntos_2026'!K12 -> 146 | G29: =((F29-F28)/F28)*100 -> 44.554455 | I29: 46082 | J29: ='10+_Assuntos_2026'!K13 -> 224 | K29: =((J29-J28)/J28)*100 -> 5.6603774 | M29: 46082 | N29: ='10+_Assuntos_2026'!K14 -> 160 | O29: =((N29-N28)/N28)*100 -> 12.676056
A30: 46113 | B30: ='10+_Assuntos_2026'!J$11 -> 139 | C30: =((B30-B29)/B29)*100 -> -30.5 | E30: 46113 | F30: ='10+_Assuntos_2026'!J$12 -> 166 | G30: =((F30-F29)/F29)*100 -> 13.69863 | I30: 46113 | J30: ='10+_Assuntos_2026'!J$13 -> 172 | K30: =((J30-J29)/J29)*100 -> -23.214286 | M30: 46113 | N30: ='10+_Assuntos_2026'!J$14 -> 160 | O30: =((N30-N29)/N29)*100 -> 0
A31: 46143 | B31: ='10+_Assuntos_2026'!I$11 -> 199 | C31: =((B31-B30)/B30)*100 -> 43.165468 | E31: 46143 | F31: ='10+_Assuntos_2026'!I$12 -> 156 | G31: =((F31-F30)/F30)*100 -> -6.0240964 | I31: 46143 | J31: ='10+_Assuntos_2026'!I$13 -> 140 | K31: =((J31-J30)/J30)*100 -> -18.604651 | M31: 46143 | N31: ='10+_Assuntos_2026'!I$14 -> 149 | O31: =((N31-N30)/N30)*100 -> -6.875
A32: 46174 | B32: ='10+_Assuntos_2026'!H$11 -> 210 | C32: =((B32-B31)/B31)*100 -> 5.5276382 | E32: 46174 | F32: ='10+_Assuntos_2026'!H$12 -> 246 | G32: =((F32-F31)/F31)*100 -> 57.692308 | I32: 46174 | J32: ='10+_Assuntos_2026'!H$13 -> 155 | K32: =((J32-J31)/J31)*100 -> 10.714286 | M32: 46174 | N32: ='10+_Assuntos_2026'!H$14 -> 184 | O32: =((N32-N31)/N31)*100 -> 23.489933
A33: 46204 | B33: ='10+_Assuntos_2026'!G$11 -> 227 | C33: =((B33-B32)/B32)*100 -> 8.0952381 | E33: 46204 | F33: ='10+_Assuntos_2026'!G$12 -> 201 | G33: =((F33-F32)/F32)*100 -> -18.292683 | I33: 46204 | J33: ='10+_Assuntos_2026'!G$13 -> 213 | K33: =((J33-J32)/J32)*100 -> 37.419355 | M33: 46204 | N33: ='10+_Assuntos_2026'!G$14 -> 179 | O33: =((N33-N32)/N32)*100 -> -2.7173913
A34: 46235 | B34: ='10+_Assuntos_2026'!F$11 -> 292 | C34: =((B34-B33)/B33)*100 -> 28.634361 | E34: 46235 | F34: ='10+_Assuntos_2026'!F$12 -> 238 | G34: =((F34-F33)/F33)*100 -> 18.40796 | I34: 46235 | J34: ='10+_Assuntos_2026'!F$13 -> 149 | K34: =((J34-J33)/J33)*100 -> -30.046948 | M34: 46235 | N34: ='10+_Assuntos_2026'!F$14 -> 199 | O34: =((N34-N33)/N33)*100 -> 11.173184
A35: 46266 | B35: ='10+_Assuntos_2026'!E$11 -> 260 | C35: =((B35-B34)/B34)*100 -> -10.958904 | E35: 46266 | F35: ='10+_Assuntos_2026'!E$12 -> 219 | G35: =((F35-F34)/F34)*100 -> -7.9831933 | I35: 46266 | J35: ='10+_Assuntos_2026'!E$13 -> 175 | K35: =((J35-J34)/J34)*100 -> 17.449664 | M35: 46266 | N35: ='10+_Assuntos_2026'!E$14 -> 209 | O35: =((N35-N34)/N34)*100 -> 5.0251256
A36: 46296 | B36: ='10+_Assuntos_2026'!D$11 -> 0 | C36: =((B36-B35)/B35)*100 -> -100 | E36: 46296 | F36: ='10+_Assuntos_2026'!D$12 -> 0 | G36: =((F36-F35)/F35)*100 -> -100 | I36: 46296 | J36: ='10+_Assuntos_2026'!D$13 -> 0 | K36: =((J36-J35)/J35)*100 -> -100 | M36: 46296 | N36: ='10+_Assuntos_2026'!D$14 -> 0 | O36: =((N36-N35)/N35)*100 -> -100
A37: 46327 | B37: ='10+_Assuntos_2026'!C$11 -> 0 | C37: =((B37-B36)/B36)*100 -> #DIV/0! | E37: 46327 | F37: ='10+_Assuntos_2026'!C$12 -> 0 | G37: =((F37-F36)/F36)*100 -> #DIV/0! | I37: 46327 | J37: ='10+_Assuntos_2026'!C$13 -> 0 | K37: =((J37-J36)/J36)*100 -> #DIV/0! | M37: 46327 | N37: ='10+_Assuntos_2026'!C$14 -> 0 | O37: =((N37-N36)/N36)*100 -> #DIV/0!
A38: 46357 | B38: ='10+_Assuntos_2026'!B$11 -> 0 | C38: =((B38-B37)/B37)*100 -> #DIV/0! | E38: 46357 | F38: ='10+_Assuntos_2026'!B$12 -> 0 | G38: =((F38-F37)/F37)*100 -> #DIV/0! | I38: 46357 | J38: ='10+_Assuntos_2026'!B$13 -> 0 | K38: =((J38-J37)/J37)*100 -> #DIV/0! | M38: 46357 | N38: ='10+_Assuntos_2026'!B$14 -> 0 | O38: =((N38-N37)/N37)*100 -> #DIV/0!
B40: 192 | F40: 73
A41: ='10+_Assuntos_2026'!A15 -> Poluição sonora - PSIU | E41: ='10+_Assuntos_2026'!A16 -> Calçadas, guias e postes
A42: Meses | B42: Protocolos* | C42: Variação** | E42: Meses | F42: Protocolos* | G42: Variação**
A43: 46023 | B43: ='10+_Assuntos_2026'!M15 -> 137 | C43: =((B43-B40)/B40)*100 -> -28.645833 | E43: 46023 | F43: ='10+_Assuntos_2026'!M$16 -> 147 | G43: =((F43-F40)/F40)*100 -> 101.36986
A44: 46054 | B44: ='10+_Assuntos_2026'!L15 -> 110 | C44: =((B44-B43)/B43)*100 -> -19.708029 | E44: 46054 | F44: ='10+_Assuntos_2026'!L$16 -> 145 | G44: =((F44-F43)/F43)*100 -> -1.3605442
...

Sheet 10_ASSUNTOS+_Assuntos_SET_26
A1: Controladoria Geral do Município - Ouvidoria Geral
A2: SIGRC - Sistema Integrado de Gerenciamento e Relacionamento com o Cidadão
A4: 10 assuntos mais solicitados de Setembro/26
A6: ASSUNTO (Guia Portal 156)* | B6: 46266
A7: Qualidade de atendimento | B7: 484
A8: Buraco e Pavimentação | B8: 317
A9: Ônibus | B9: 310
A10: Processo Administrativo | B10: 260
A11: Árvore | B11: 255
A12: Veículos abandonados | B12: 219
A13: Multas de trânsito e guinchamentos | B13: 209
A14: Ponto viciado, entulho e caçamba de entulho | B14: 175
A15: Ouvidoria SUS | B15: 171
A16: Drenagem de água de chuva | B16: 166
A17: Total | B17: =SUM(B7:B16) -> 2566
A23: * Em decorrência da troca de sistema ocorrida em Dez/2016, a metodologia atualmente aplicada para a classificação dos assuntos é a Guia de Serviços do Portal 156 (As Denúncias não estão sendo contabilizadas nessa aba da planilha, pois esses dados estão sendo exibidos em abas específicas).
B24: =A7 -> Qualidade de atendimento | C24: =A8 -> Buraco e Pavimentação | D24: =A9 -> Ônibus | E24: =A10 -> Processo Administrativo | F24: =A11 -> Árvore | G24: =A12 -> Veículos abandonados | H24: =A13 -> Multas de trânsito e guinchamentos | I24: =A14 -> Ponto viciado, entulho e caçamba de entulho | J24: =A15 -> Ouvidoria SUS | K24: =A16 -> Drenagem de água de chuva | L24: Total
B25: =B7 -> 484 | C25: =B8 -> 317 | D25: =B9 -> 310 | E25: =B10 -> 260 | F25: =B11 -> 255 | G25: =B12 -> 219 | H25: =B13 -> 209 | I25: =B14 -> 175 | J25: =B15 -> 171 | K25: =B16 -> 166
K26: =K25 -> 166 | L26: =Assuntos!E276 -> 5742

Sheet UNIDADES
A1: Controladoria Geral do Município - Ouvidoria Geral
A2: SIGRC - Sistema Integrado de Gerenciamento e Relacionamento com o Cidadão
A4: Unidades PMSP* | B4: 46357 | C4: 46327 | D4: 46296 | E4: 46266 | F4: 46235 | G4: 46204 | H4: 46174 | I4: 46143 | J4: 46113 | K4: 46082 | L4: 46054 | M4: 46023 | N4: Total | O4: Média | P4: % Total
A5: Agência Reguladora de Serviços Públicos do Município | E5: 145 | F5: 146 | G5: 165 | H5: 112 | I5: 119 | J5: 130 | K5: 191 | L5: 131 | M5: 148 | N5: =SUM(B5:M5) -> 1287 | O5: =AVERAGE(B5:M5) -> 143 | P5: =(N5/$N$72)*100 -> 2.6126144
A6: Casa Civíl | E6: 1 | F6: 0 | G6: 1 | H6: 3 | I6: 1 | J6: 0 | K6: 1 | L6: 2 | M6: 1 | N6: =SUM(B6:M6) -> 10 | O6: =AVERAGE(B6:M6) -> 1.1111111 | P6: =(N6/$N$72)*100 -> 0.020300035
A7: Companhia de Engenharia de Tráfego | E7: 445 | F7: 504 | G7: 414 | H7: 393 | I7: 349 | J7: 333 | K7: 405 | L7: 305 | M7: 343 | N7: =SUM(B7:M7) -> 3491 | O7: =AVERAGE(B7:M7) -> 387.88889 | P7: =(N7/$N$72)*100 -> 7.086742
A8: Companhia Metropolitana de Habitação | E8: 21 | F8: 18 | G8: 25 | H8: 8 | I8: 9 | J8: 16 | K8: 23 | L8: 13 | M8: 8 | N8: =SUM(B8:M8) -> 141 | O8: =AVERAGE(B8:M8) -> 15.666667 | P8: =(N8/$N$72)*100 -> 0.28623049
A9: Controladoria Geral do Município | E9: 31 | F9: 33 | G9: 24 | H9: 27 | I9: 36 | J9: 39 | K9: 37 | L9: 48 | M9: 58 | N9: =SUM(B9:M9) -> 333 | O9: =AVERAGE(B9:M9) -> 37 | P9: =(N9/$N$72)*100 -> 0.67599115
A10: Coordenadoria de Limpeza Urbana*** | E10: 542 | F10: 586 | G10: 504 | H10: 404 | I10: 389 | J10: 530 | K10: 571 | L10: 560 | M10: 556 | N10: =SUM(B10:M10) -> 4642 | O10: =AVERAGE(B10:M10) -> 515.77778 | P10: =(N10/$N$72)*100 -> 9.423276
A11: Fora da competência da municipalidade | E11: 93 | F11: 108 | G11: 170 | H11: 130 | I11: 179 | J11: 142 | K11: 154 | L11: 80 | M11: 143 | N11: =SUM(B11:M11) -> 1199 | O11: =AVERAGE(B11:M11) -> 133.22222 | P11: =(N11/$N$72)*100 -> 2.4339741
A12: Não identificado** | E12: 2 | F12: 3 | G12: 2 | H12: 10 | I12: 2 | J12: 1 | K12: 0 | L12: 0 | M12: 0 | N12: =SUM(B12:M12) -> 20 | O12: =AVERAGE(B12:M12) -> 2.2222222 | P12: =(N12/$N$72)*100 -> 0.040600069
A13: Procuradoria Geral do Município | E13: 79 | F13: 70 | G13: 71 | H13: 64 | I13: 41 | J13: 46 | K13: 72 | L13: 59 | M13: 61 | N13: =SUM(B13:M13) -> 563 | O13: =AVERAGE(B13:M13) -> 62.555556 | P13: =(N13/$N$72)*100 -> 1.1428919
A14: São Paulo Obras | E14: 0 | F14: 0 | G14: 0 | H14: 0 | I14: 0 | J14: 0 | K14: 0 | L14: 0 | M14: 0 | N14: =SUM(B14:M14) -> 0 | O14: =AVERAGE(B14:M14) -> 0 | P14: =(N14/$N$72)*100 -> 0
A15: São Paulo Transportes | E15: 510 | F15: 454 | G15: 359 | H15: 324 | I15: 327 | J15: 369 | K15: 395 | L15: 339 | M15: 265 | N15: =SUM(B15:M15) -> 3342 | O15: =AVERAGE(B15:M15) -> 371.33333 | P15: =(N15/$N$72)*100 -> 6.7842715
A16: Secretaria de Relações Institucionais | E16: 0 | F16: 0 | G16: 0 | H16: 0 | I16: 0 | J16: 0 | K16: 0 | L16: 0 | M16: 0 | N16: =SUM(B16:M16) -> 0 | O16: =AVERAGE(B16:M16) -> 0 | P16: =(N16/$N$72)*100 -> 0
... A71: Subprefeitura Vila Prudente | E71: 22 | F71: 29 | G71: 35 | H71: 23 | I71: 19 | J71: 23 | K71: 15 | L71: 17 | M71: 28 | N71: =SUM(B71:M71) -> 211 | O71: =AVERAGE(B71:M71) -> 23.444444 | P71: =(N71/$N$72)*100 -> 0.42833073
A72: Total | E72: =SUM(E5:E71) -> 5742 | F72: =SUM(F5:F71) -> 6011 | G72: =SUM(G5:G71) -> 5819 | H72: =SUM(H5:H71) -> 4807 | I72: =SUM(I5:I71) -> 5005 | J72: =SUM(J5:J71) -> 5140 | K72: =SUM(K5:K71) -> 6124 | L72: =SUM(L5:L71) -> 5206 | ... N72: =SUM(N5:N71) -> 49261 | O72: =AVERAGE(B72:M72) -> 5473.4444 | P72: =SUM(P5:P71) -> 100
A75: * As Denúncias não estão sendo contabilizadas nessa aba da planilha, pois esses dados estão sendo exibidos em abas específicas.
A76: ** Considera-se o campo “não identificado” todos os registros que não especificam o órgão denunciado, que não complementam essa informação, ou ainda que a narrativa não permita rastrear o órgão denunciado.
A77: ***A partir de maio de 2026, as demandas anteriormente classificadas sob a responsabilidade da Secretaria Municipal de Limpeza Urbana passaram a ser atribuídas à Coordenadoria de Limpeza Urbana

Sheet 10+_UNIDADES_2026
A1: Controladoria Geral do Município - Ouvidoria Geral
A2: SIGRC - Sistema Integrado de Gerenciamento e Relacionamento com o Cidadão
A4: Unidades - 10 mais solicitadas de 2026 (Média) | P4: =UNIDADES!E72 -> 5742
A6: Unidades PMSP* | B6: 46357 | C6: 46327 | D6: 46296 | E6: 46266 | F6: 46235 | G6: 46204 | H6: 46174 | I6: 46143 | J6: 46113 | K6: 46082 | L6: 46054 | M6: 46023 | N6: Total | O6: Média | P6: % em relação ao todo SET/26 (excetuando-se denúncias)
A7: Secretaria Municipal da Saúde | E7: 928 | F7: 912 | G7: 848 | H7: 718 | I7: 764 | J7: 749 | K7: 803 | L7: 700 | M7: 821 | N7: =SUM(B7:M7) -> 7243 | O7: =AVERAGE(B7:M7) -> 804.77778 | P7: =(E7*100)/$P$4 -> 16.161616
A8: Coordenadoria de Limpeza Urbana*** | E8: 542 | F8: 586 | G8: 504 | H8: 404 | I8: 389 | J8: 530 | K8: 571 | L8: 560 | M8: 556 | N8: =SUM(B8:M8) -> 4642 | O8: =AVERAGE(B8:M8) -> 515.77778 | P8: =(E8*100)/$P$4 -> 9.4392198
A9: Secretaria Municipal das Subprefeituras | E9: 512 | F9: 495 | G9: 539 | H9: 425 | I9: 402 | J9: 441 | K9: 532 | L9: 283 | M9: 344 | N9: =SUM(B9:M9) -> 3973 | O9: =AVERAGE(B9:M9) -> 441.44444 | P9: =(E9*100)/$P$4 -> 8.9167537
A10: Companhia de Engenharia de Tráfego | E10: 445 | F10: 504 | G10: 414 | H10: 393 | I10: 349 | J10: 333 | K10: 405 | L10: 305 | M10: 343 | N10: =SUM(B10:M10) -> 3491 | O10: =AVERAGE(B10:M10) -> 387.88889 | P10: =(E10*100)/$P$4 -> 7.7499129
A11: São Paulo Transportes | E11: 510 | F11: 454 | G11: 359 | H11: 324 | I11: 327 | J11: 369 | K11: 395 | L11: 339 | M11: 265 | N11: =SUM(B11:M11) -> 3342 | O11: =AVERAGE(B11:M11) -> 371.33333 | P11: =(E11*100)/$P$4 -> 8.8819227
A12: Secretaria Municipal de Educação | E12: 285 | F12: 299 | G12: 286 | H12: 228 | I12: 390 | J12: 303 | K12: 456 | L12: 612 | M12: 458 | N12: =SUM(B12:M12) -> 3317 | O12: =AVERAGE(B12:M12) -> 368.55556 | P12: =(E12*100)/$P$4 -> 4.9634274
A13: Secretaria Municipal da Fazenda | E13: 381 | F13: 382 | G13: 472 | H13: 300 | I13: 309 | J13: 293 | K13: 351 | L13: 355 | M13: 343 | N13: =SUM(B13:M13) -> 3186 | O13: =AVERAGE(B13:M13) -> 354 | P13: =(E13*100)/$P$4 -> 6.6353187
A14: Secretaria Municipal de Assistência e Desenvolvimento Social | E14: 157 | F14: 217 | G14: 316 | H14: 227 | I14: 292 | J14: 256 | K14: 276 | L14: 222 | M14: 258 | N14: =SUM(B14:M14) -> 2221 | O14: =AVERAGE(B14:M14) -> 246.77778 | P14: =(E14*100)/$P$4 -> 2.7342389
A15: Agência Reguladora de Serviços Públicos do Município | E15: 145 | F15: 146 | G15: 165 | H15: 112 | I15: 119 | J15: 130 | K15: 191 | L15: 131 | M15: 148 | N15: =SUM(B15:M15) -> 1287 | O15: =AVERAGE(B15:M15) -> 143 | P15: =(E15*100)/$P$4 -> 2.5252525
A16: Fora da competência da municipalidade | E16: 93 | F16: 108 | G16: 170 | H16: 130 | I16: 179 | J16: 142 | K16: 154 | L16: 80 | M16: 143 | N16: =SUM(B16:M16) -> 1199 | O16: =AVERAGE(B16:M16) -> 133.22222 | P16: =(E16*100)/$P$4 -> 1.6196447
A17: Total | E17: =SUM(E7:E16) -> 3998 | F17: =SUM(F7:F16) -> 4103 | G17: =SUM(G7:G16) -> 4073 | H17: =SUM(H7:H16) -> 3261 | I17: =SUM(I7:I16) -> 3520 | J17: =SUM(J7:J16) -> 3546 | K17: =SUM(K7:K16) -> 4134 | L17: =SUM(L7:L16) -> 3587 | ... N17: =SUM(N7:N16) -> 33901 | O17: =AVERAGE(B17:M17) -> 3766.7778 | P17: =(E17*100)/$P$4 -> 69.627308
A18: Outros | O18: %total | P18: =100-P17 -> 30.372692
A24: * As Denúncias não estão sendo contabilizadas nessa aba da planilha, pois esses dados estão sendo exibidos em abas específicas.
A25: **A partir de maio de 2026, as demandas anteriormente classificadas sob a responsabilidade da Secretaria Municipal de Limpeza Urbana passaram a ser atribuídas à Coordenadoria de Limpeza Urbana

Sheet Unidades_variação_10_mais_2026
A1: Controladoria Geral do Município - Ouvidoria Geral
A2: SIGRC - Sistema Integrado de Gerenciamento e Relacionamento com o Cidadão
A4: Unidades - variação dos 10 mais solicitados de 2026 (MÉDIA)
A6: *Protocolos - valores absolutos do mês
A7: ** Variação percentual em relação ao mês imediatamente anterior.
B8: 658 | F8: 434 | J8: 136 | N8: 357
A9: ='10+_UNIDADES_2026'!A7 -> Secretaria Municipal da Saúde | E9: ='10+_UNIDADES_2026'!A8 -> Coordenadoria de Limpeza Urbana*** | I9: ='10+_UNIDADES_2026'!A9 -> Secretaria Municipal das Subprefeituras | M9: ='10+_UNIDADES_2026'!A10 -> Companhia de Engenharia de Tráfego
A10: Meses | B10: Protocolos* | C10: Variação** | E10: Meses | F10: Protocolos* | G10: Variação** | I10: Meses | J10: Protocolos* | K10: Variação** | M10: Meses | N10: Protocolos* | O10: Variação**
A11: 46023 | B11: ='10+_UNIDADES_2026'!M7 -> 821 | C11: =((B11-B8)/B8)*100 -> 24.772036 | E11: 46023 | F11: ='10+_UNIDADES_2026'!M8 -> 556 | G11: =((F11-F8)/F8)*100 -> 28.110599 | I11: 46023 | J11: ='10+_UNIDADES_2026'!M9 -> 344 | K11: =((J11-J8)/J8)*100 -> 152.94118 | M11: 46023 | N11: ='10+_UNIDADES_2026'!M10 -> 343 | O11: =((N11-N8)/N8)*100 -> -3.9215686
A12: 46054 | B12: ='10+_UNIDADES_2026'!L7 -> 700 | C12: =((B12-B11)/B11)*100 -> -14.738124 | E12: 46054 | F12: ='10+_UNIDADES_2026'!L8 -> 560 | G12: =((F12-F11)/F11)*100 -> 0.71942446 | I12: 46054 | J12: ='10+_UNIDADES_2026'!L9 -> 283 | K12: =((J12-J11)/J11)*100 -> -17.732558 | M12: 46054 | N12: ='10+_UNIDADES_2026'!L10 -> 305 | O12: =((N12-N11)/N11)*100 -> -11.078717
A13: 46082 | B13: ='10+_UNIDADES_2026'!K7 -> 803 | C13: =((B13-B12)/B12)*100 -> 14.714286 | E13: 46082 | F13: ='10+_UNIDADES_2026'!K8 -> 571 | G13: =((F13-F12)/F12)*100 -> 1.9642857 | I13: 46082 | J13: ='10+_UNIDADES_2026'!K9 -> 532 | K13: =((J13-J12)/J12)*100 -> 87.985866 | M13: 46082 | N13: ='10+_UNIDADES_2026'!K10 -> 405 | O13: =((N13-N12)/N12)*100 -> 32.786885
A14: 46113 | B14: ='10+_UNIDADES_2026'!J$7 -> 749 | C14: =((B14-B13)/B13)*100 -> -6.7247821 | E14: 46113 | F14: ='10+_UNIDADES_2026'!J$8 -> 530 | G14: =((F14-F13)/F13)*100 -> -7.1803853 | I14: 46113 | J14: ='10+_UNIDADES_2026'!J$9 -> 441 | K14: =((J14-J13)/J13)*100 -> -17.105263 | M14: 46113 | N14: ='10+_UNIDADES_2026'!J$10 -> 333 | O14: =((N14-N13)/N13)*100 -> -17.777778
A15: 46143 | B15: ='10+_UNIDADES_2026'!I$7 -> 764 | C15: =((B15-B14)/B14)*100 -> 2.0026702 | E15: 46143 | F15: ='10+_UNIDADES_2026'!I$8 -> 389 | G15: =((F15-F14)/F14)*100 -> -26.603774 | I15: 46143 | J15: ='10+_UNIDADES_2026'!I$9 -> 402 | K15: =((J15-J14)/J14)*100 -> -8.8435374 | M15: 46143 | N15: ='10+_UNIDADES_2026'!I$10 -> 349 | O15: =((N15-N14)/N14)*100 -> 4.8048048
A16: 46174 | B16: ='10+_UNIDADES_2026'!H$7 -> 718 | C16: =((B16-B15)/B15)*100 -> -6.0209424 | E16: 46174 | F16: ='10+_UNIDADES_2026'!H$8 -> 404 | G16: =((F16-F15)/F15)*100 -> 3.8560411 | I16: 46174 | J16: ='10+_UNIDADES_2026'!H$9 -> 425 | K16: =((J16-J15)/J15)*100 -> 5.721393 | M16: 46174 | N16: ='10+_UNIDADES_2026'!H$10 -> 393 | O16: =((N16-N15)/N15)*100 -> 12.60745
A17: 46204 | B17: ='10+_UNIDADES_2026'!G$7 -> 848 | C17: =((B17-B16)/B16)*100 -> 18.10585 | E17: 46204 | F17: ='10+_UNIDADES_2026'!G$8 -> 504 | G17: =((F17-F16)/F16)*100 -> 24.752475 | I17: 46204 | J17: ='10+_UNIDADES_2026'!G$9 -> 539 | K17: =((J17-J16)/J16)*100 -> 26.823529 | M17: 46204 | N17: ='10+_UNIDADES_2026'!G$10 -> 414 | O17: =((N17-N16)/N16)*100 -> 5.3435115
A18: 46235 | B18: ='10+_UNIDADES_2026'!F$7 -> 912 | C18: =((B18-B17)/B17)*100 -> 7.5471698 | E18: 46235 | F18: ='10+_UNIDADES_2026'!F$8 -> 586 | G18: =((F18-F17)/F17)*100 -> 16.269841 | I18: 46235 | J18: ='10+_UNIDADES_2026'!F$9 -> 495 | K18: =((J18-J17)/J17)*100 -> -8.1632653 | M18: 46235 | N18: ='10+_UNIDADES_2026'!F$10 -> 504 | O18: =((N18-N17)/N17)*100 -> 21.73913
A19: 46266 | B19: ='10+_UNIDADES_2026'!E$7 -> 928 | C19: =((B19-B18)/B18)*100 -> 1.754386 | E19: 46266 | F19: ='10+_UNIDADES_2026'!E$8 -> 542 | G19: =((F19-F18)/F18)*100 -> -7.5085324 | I19: 46266 | J19: ='10+_UNIDADES_2026'!E$9 -> 512 | K19: =((J19-J18)/J18)*100 -> 3.4343434 | M19: 46266 | N19: ='10+_UNIDADES_2026'!E$10 -> 445 | O19: =((N19-N18)/N18)*100 -> -11.706349
A20: 46296 | B20: ='10+_UNIDADES_2026'!D$7 -> 0 | C20: =((B20-B19)/B19)*100 -> -100 | E20: 46296 | F20: ='10+_UNIDADES_2026'!D$8 -> 0 | G20: =((F20-F19)/F19)*100 -> -100 | I20: 46296 | J20: ='10+_UNIDADES_2026'!D$9 -> 0 | K20: =((J20-J19)/J19)*100 -> -100 | M20: 46296 | N20: ='10+_UNIDADES_2026'!D$10 -> 0 | O20: =((N20-N19)/N19)*100 -> -100
A21: 46327 | B21: ='10+_UNIDADES_2026'!C$7 -> 0 | C21: =((B21-B20)/B20)*100 -> #DIV/0! | E21: 46327 | F21: ='10+_UNIDADES_2026'!C$8 -> 0 | G21: =((F21-F20)/F20)*100 -> #DIV/0! | I21: 46327 | J21: ='10+_UNIDADES_2026'!C$9 -> 0 | K21: =((J21-J20)/J20)*100 -> #DIV/0! | M21: 46327 | N21: ='10+_UNIDADES_2026'!C$10 -> 0 | O21: =((N21-N20)/N20)*100 -> #DIV/0!
A22: 46357 | B22: ='10+_UNIDADES_2026'!B$7 -> 0 | C22: =((B22-B21)/B21)*100 -> #DIV/0! | E22: 46357 | F22: ='10+_UNIDADES_2026'!B$8 -> 0 | G22: =((F22-F21)/F21)*100 -> #DIV/0! | I22: 46357 | J22: ='10+_UNIDADES_2026'!B$9 -> 0 | K22: =((J22-J21)/J21)*100 -> #DIV/0! | M22: 46357 | N22: ='10+_UNIDADES_2026'!B$10 -> 0 | O22: =((N22-N21)/N21)*100 -> #DIV/0!
B24: 348 | F24: 190 | J24: 229 | N24: 224
A25: ='10+_UNIDADES_2026'!A11 -> São Paulo Transportes | E25: ='10+_UNIDADES_2026'!A12 -> Secretaria Municipal de Educação | I25: ='10+_UNIDADES_2026'!A13 -> Secretaria Municipal da Fazenda | M25: ='10+_UNIDADES_2026'!A14 -> Secretaria Municipal de Assistência e Desenvolvimento Social
A26: Meses | B26: Protocolos* | C26: Variação** | E26: Meses | F26: Protocolos* | G26: Variação** | I26: Meses | J26: Protocolos* | K26: Variação** | M26: Meses | N26: Protocolos* | O26: Variação**
A27: 46023 | B27: ='10+_UNIDADES_2026'!M11 -> 265 | C27: =((B27-B24)/B24)*100 -> -23.850575 | E27: 46023 | F27: ='10+_UNIDADES_2026'!M12 -> 458 | G27: =((F27-F24)/F24)*100 -> 141.05263 | I27: 46023 | J27: ='10+_UNIDADES_2026'!M13 -> 343 | K27: =((J27-J24)/J24)*100 -> 49.781659 | M27: 46023 | N27: ='10+_UNIDADES_2026'!M14 -> 258 | O27: =((N27-N24)/N24)*100 -> 15.178571
A28: 46054 | B28: ='10+_UNIDADES_2026'!L11 -> 339 | C28: =((B28-B27)/B27)*100 -> 27.924528 | E28: 46054 | F28: ='10+_UNIDADES_2026'!L12 -> 612 | G28: =((F28-F27)/F27)*100 -> 33.624454 | I28: 46054 | J28: ='10+_UNIDADES_2026'!L13 -> 355 | K28: =((J28-J27)/J27)*100 -> 3.4985423 | M28: 46054 | N28: ='10+_UNIDADES_2026'!L14 -> 222 | O28: =((N28-N27)/N27)*100 -> -13.953488
A29: 46082 | B29: ='10+_UNIDADES_2026'!K11 -> 395 | C29: =((B29-B28)/B28)*100 -> 16.519174 | E29: 46082 | F29: ='10+_UNIDADES_2026'!K12 -> 456 | G29: =((F29-F28)/F28)*100 -> -25.490196 | I29: 46082 | J29: ='10+_UNIDADES_2026'!K13 -> 351 | K29: =((J29-J28)/J28)*100 -> -1.1267606 | M29: 46082 | N29: ='10+_UNIDADES_2026'!K14 -> 276 | O29: =((N29-N28)/N28)*100 -> 24.324324
A30: 46113 | B30: ='10+_UNIDADES_2026'!J$11 -> 369 | C30: =((B30-B29)/B29)*100 -> -6.5822785 | E30: 46113 | F30: ='10+_UNIDADES_2026'!J$12 -> 303 | G30: =((F30-F29)/F29)*100 -> -33.552632 | I30: 46113 | J30: ='10+_UNIDADES_2026'!J$13 -> 293 | K30: =((J30-J29)/J29)*100 -> -16.524217 | M30: 46113 | N30: ='10+_UNIDADES_2026'!J$14 -> 256 | O30: =((N30-N29)/N29)*100 -> -7.2463768
A31: 46143 | B31: ='10+_UNIDADES_2026'!I$11 -> 327 | C31: =((B31-B30)/B30)*100 -> -11.382114 | E31: 46143 | F31: ='10+_UNIDADES_2026'!I$12 -> 390 | G31: =((F31-F30)/F30)*100 -> 28.712871 | I31: 46143 | J31: ='10+_UNIDADES_2026'!I$13 -> 309 | K31: =((J31-J30)/J30)*100 -> 5.4607509 | M31: 46143 | N31: ='10+_UNIDADES_2026'!I$14 -> 292 | O31: =((N31-N30)/N30)*100 -> 14.0625
A32: 46174 | B32: ='10+_UNIDADES_2026'!H$11 -> 324 | C32: =((B32-B31)/B31)*100 -> -0.91743119 | E32: 46174 | F32: ='10+_UNIDADES_2026'!H$12 -> 228 | G32: =((F32-F31)/F31)*100 -> -41.538462 | I32: 46174 | J32: ='10+_UNIDADES_2026'!H$13 -> 300 | K32: =((J32-J31)/J31)*100 -> -2.9126214 | M32: 46174 | N32: ='10+_UNIDADES_2026'!H$14 -> 227 | O32: =((N32-N31)/N31)*100 -> -22.260274
A33: 46204 | B33: ='10+_UNIDADES_2026'!G$11 -> 359 | C33: =((B33-B32)/B32)*100 -> 10.802469 | E33: 46204 | F33: ='10+_UNIDADES_2026'!G$12 -> 286 | G33: =((F33-F32)/F32)*100 -> 25.438596 | I33: 46204 | J33: ='10+_UNIDADES_2026'!G$13 -> 472 | K33: =((J33-J32)/J32)*100 -> 57.333333 | M33: 46204 | N33: ='10+_UNIDADES_2026'!G$14 -> 316 | O33: =((N33-N32)/N32)*100 -> 39.207048
A34: 46235 | B34: ='10+_UNIDADES_2026'!F$11 -> 454 | C34: =((B34-B33)/B33)*100 -> 26.462396 | E34: 46235 | F34: ='10+_UNIDADES_2026'!F$12 -> 299 | G34: =((F34-F33)/F33)*100 -> 4.5454545 | I34: 46235 | J34: ='10+_UNIDADES_2026'!F$13 -> 382 | K34: =((J34-J33)/J33)*100 -> -19.067797 | M34: 46235 | N34: ='10+_UNIDADES_2026'!F$14 -> 217 | O34: =((N34-N33)/N33)*100 -> -31.329114
A35: 46266 | B35: ='10+_UNIDADES_2026'!E$11 -> 510 | C35: =((B35-B34)/B34)*100 -> 12.334802 | E35: 46266 | F35: ='10+_UNIDADES_2026'!E$12 -> 285 | G35: =((F35-F34)/F34)*100 -> -4.6822742 | I35: 46266 | J35: ='10+_UNIDADES_2026'!E$13 -> 381 | K35: =((J35-J34)/J34)*100 -> -0.2617801 | M35: 46266 | N35: ='10+_UNIDADES_2026'!E$14 -> 157 | O35: =((N35-N34)/N34)*100 -> -27.64977
A36: 46296 | B36: ='10+_UNIDADES_2026'!D$11 -> 0 | C36: =((B36-B35)/B35)*100 -> -100 | E36: 46296 | F36: ='10+_UNIDADES_2026'!D$12 -> 0 | G36: =((F36-F35)/F35)*100 -> -100 | I36: 46296 | J36: ='10+_UNIDADES_2026'!D$13 -> 0 | K36: =((J36-J35)/J35)*100 -> -100 | M36: 46296 | N36: ='10+_UNIDADES_2026'!D$14 -> 0 | O36: =((N36-N35)/N35)*100 -> -100
A37: 46327 | B37: ='10+_UNIDADES_2026'!C$11 -> 0 | C37: =((B37-B36)/B36)*100 -> #DIV/0! | E37: 46327 | F37: ='10+_UNIDADES_2026'!C$12 -> 0 | G37: =((F37-F36)/F36)*100 -> #DIV/0! | I37: 46327 | J37: ='10+_UNIDADES_2026'!C$13 -> 0 | K37: =((J37-J36)/J36)*100 -> #DIV/0! | M37: 46327 | N37: ='10+_UNIDADES_2026'!C$14 -> 0 | O37: =((N37-N36)/N36)*100 -> #DIV/0!
A38: 46357 | B38: ='10+_UNIDADES_2026'!B$11 -> 0 | C38: =((B38-B37)/B37)*100 -> #DIV/0! | E38: 46357 | F38: ='10+_UNIDADES_2026'!B$12 -> 0 | G38: =((F38-F37)/F37)*100 -> #DIV/0! | I38: 46357 | J38: ='10+_UNIDADES_2026'!B$13 -> 0 | K38: =((J38-J37)/J37)*100 -> #DIV/0! | M38: 46357 | N38: ='10+_UNIDADES_2026'!B$14 -> 0 | O38: =((N38-N37)/N37)*100 -> #DIV/0!
B40: 125 | F40: 161
A41: ='10+_UNIDADES_2026'!A15 -> Agência Reguladora de Serviços Públicos do Município | E41: ='10+_UNIDADES_2026'!A16 -> Fora da competência da municipalidade
A42: Meses | B42: Protocolos* | C42: Variação** | E42: Meses | F42: Protocolos* | G42: Variação**
A43: 46023 | B43: ='10+_UNIDADES_2026'!M15 -> 148 | C43: =((B43-B40)/B40)*100 -> 18.4 | E43: 46023 | F43: ='10+_UNIDADES_2026'!M16 -> 143 | G43: =((F43-F40)/F40)*100 -> -11.180124
A44: 46054 | B44: ='10+_UNIDADES_2026'!L15 -> 131 | C44: =((B44-B43)/B43)*100 -> -11.486486 | E44: 46054 | F44: ='10+_UNIDADES_2026'!L16 -> 80 | G44: =((F44-F43)/F43)*100 -> -44.055944
...

Sheet 10+_Unidades_SET_26
A1: Controladoria Geral do Município - Ouvidoria Geral
A2: SIGRC - Sistema Integrado de Gerenciamento e Relacionamento com o Cidadão
A4: 10 unidades mais demandadas de Setembro/26
A6: Unidades PMSP* | B6: 46266
A7: Secretaria Municipal da Saúde | B7: 928
A8: Coordenadoria de Limpeza Urbana*** | B8: 542
A9: Secretaria Municipal das Subprefeituras | B9: 512
A10: São Paulo Transportes | B10: 510
A11: Companhia de Engenharia de Tráfego | B11: 445
A12: Secretaria Municipal da Fazenda | B12: 381
A13: Secretaria Municipal de Educação | B13: 285
A14: Secretaria Municipal de Assistência e Desenvolvimento Social | B14: 157
A15: Agência Reguladora de Serviços Públicos do Município | B15: 145
A16: Fora da competência da municipalidade | B16: 93
A17: Total | B17: =SUM(B7:B16) -> 3998
A19: * As Denúncias não estão sendo contabilizadas nessa aba da planilha, pois esses dados estão sendo exibidos em abas específicas.
A20: **A partir de maio de 2026, as demandas anteriormente classificadas sob a responsabilidade da Secretaria Municipal de Limpeza Urbana passaram a ser atribuídas à Coordenadoria de Limpeza Urbana
B22: =A7 -> Secretaria Municipal da Saúde | C22: =A8 -> Coordenadoria de Limpeza Urbana*** | D22: =A9 -> Secretaria Municipal das Subprefeituras | E22: =A10 -> São Paulo Transportes | F22: =A11 -> Companhia de Engenharia de Tráfego | G22: =A12 -> Secretaria Municipal da Fazenda | H22: =A13 -> Secretaria Municipal de Educação | I22: =A14 -> Secretaria Municipal de Assistência e Desenvolvimento Social | J22: =A15 -> Agência Reguladora de Serviços Públicos do Município | K22: =A16 -> Fora da competência da municipalidade | L22: Total
B23: =B7 -> 928 | C23: =B8 -> 542 | D23: =B9 -> 512 | E23: =B10 -> 510 | F23: =B11 -> 445 | G23: =B12 -> 381 | H23: =B13 -> 285 | I23: =B14 -> 157 | J23: =B15 -> 145 | K23: =B16 -> 93
K25: 310 | L25: =UNIDADES!E72 -> 5742

Sheet Subprefeituras_2026
A1: Controladoria Geral do Município - Ouvidoria Geral
A2: SIGRC - Sistema Integrado de Gerenciamento e Relacionamento com o Cidadão
A4: Subprefeituras PMSP* | B4: 46357 | C4: 46327 | D4: 46296 | E4: 46266 | F4: 46235 | G4: 46204 | H4: 46174 | I4: 46143 | J4: 46113 | K4: 46082 | L4: 46054 | M4: 46023 | N4: Total | O4: Média | P4: % Total dentre as subprefeituras
A5: Aricanduva | E5: 23 | F5: 25 | G5: 31 | H5: 30 | I5: 22 | J5: 13 | K5: 42 | L5: 22 | M5: 24 | N5: =SUM(B5:M5) -> 232 | O5: =AVERAGE(B5:M5) -> 25.777778 | P5: =N5/$N$37*100 -> 2.2803224
A6: Butantã | E6: 83 | F6: 88 | G6: 94 | H6: 118 | I6: 44 | J6: 102 | K6: 85 | L6: 65 | M6: 82 | N6: =SUM(B6:M6) -> 761 | O6: =AVERAGE(B6:M6) -> 84.555556 | P6: =N6/$N$37*100 -> 7.4798506
A7: Campo Limpo | E7: 42 | F7: 42 | G7: 37 | H7: 29 | I7: 39 | J7: 37 | K7: 45 | L7: 25 | M7: 26 | N7: =SUM(B7:M7) -> 322 | O7: =AVERAGE(B7:M7) -> 35.777778 | P7: =N7/$N$37*100 -> 3.1649302
A8: Capela do Socorro | E8: 65 | F8: 48 | G8: 45 | H8: 46 | I8: 47 | J8: 40 | K8: 57 | L8: 37 | M8: 41 | N8: =SUM(B8:M8) -> 426 | O8: =AVERAGE(B8:M8) -> 47.333333 | P8: =N8/$N$37*100 -> 4.1871437
A9: Casa Verde | E9: 28 | F9: 34 | G9: 39 | H9: 38 | I9: 32 | J9: 20 | K9: 33 | L9: 25 | M9: 36 | N9: =SUM(B9:M9) -> 285 | O9: =AVERAGE(B9:M9) -> 31.666667 | P9: =N9/$N$37*100 -> 2.8012581
A10: Cidade Ademar | E10: 33 | F10: 42 | G10: 41 | H10: 39 | I10: 38 | J10: 28 | K10: 38 | L10: 38 | M10: 25 | N10: =SUM(B10:M10) -> 322 | O10: =AVERAGE(B10:M10) -> 35.777778 | P10: =N10/$N$37*100 -> 3.1649302
A11: Cidade Tiradentes | E11: 13 | F11: 12 | G11: 3 | H11: 2 | I11: 3 | J11: 4 | K11: 7 | L11: 4 | M11: 9 | N11: =SUM(B11:M11) -> 57 | O11: =AVERAGE(B11:M11) -> 6.3333333 | P11: =N11/$N$37*100 -> 0.56025162
A12: Ermelino Matarazzo | E12: 16 | F12: 15 | G12: 6 | H12: 11 | I12: 9 | J12: 16 | K12: 25 | L12: 14 | M12: 9 | N12: =SUM(B12:M12) -> 121 | O12: =AVERAGE(B12:M12) -> 13.444444 | P12: =N12/$N$37*100 -> 1.1893061
A13: Freguesia/Brasilândia | E13: 18 | F13: 26 | G13: 21 | H13: 18 | I13: 18 | J13: 20 | K13: 25 | L13: 23 | M13: 19 | N13: =SUM(B13:M13) -> 188 | O13: =AVERAGE(B13:M13) -> 20.888889 | P13: =N13/$N$37*100 -> 1.8478475
A14: Guaianases | E14: 10 | F14: 15 | G14: 22 | H14: 9 | I14: 4 | J14: 8 | K14: 32 | L14: 20 | M14: 6 | N14: =SUM(B14:M14) -> 126 | O14: =AVERAGE(B14:M14) -> 14 | P14: =N14/$N$37*100 -> 1.238451
A15: Ipiranga | E15: 75 | F15: 58 | G15: 55 | H15: 79 | I15: 93 | J15: 48 | K15: 56 | L15: 69 | M15: 85 | N15: =SUM(B15:M15) -> 618 | O15: =AVERAGE(B15:M15) -> 68.666667 | P15: =N15/$N$37*100 -> 6.0743071
A16: Itaim Paulista | E16: 18 | F16: 14 | G16: 22 | H16: 13 | I16: 11 | J16: 12 | K16: 19 | L16: 15 | M16: 17 | N16: =SUM(B16:M16) -> 141 | O16: =AVERAGE(B16:M16) -> 15.666667 | P16: =N16/$N$37*100 -> 1.3858856
... A36: Vila Prudente | E36: 22 | F36: 29 | G36: 35 | H36: 23 | I36: 19 | J36: 23 | K36: 15 | L36: 17 | M36: 28 | N36: =SUM(B36:M36) -> 211 | O36: =AVERAGE(B36:M36) -> 23.444444 | P36: =N36/$N$37*100 -> 2.0739139
A37: Total | E37: =SUM(E5:E36) -> 1186 | F37: =SUM(F5:F36) -> 1251 | G37: =SUM(G5:G36) -> 1106 | H37: =SUM(H5:H36) -> 1057 | I37: =SUM(I5:I36) -> 1044 | J37: =SUM(J5:J36) -> 1113 | K37: =SUM(K5:K36) -> 1300 | L37: =SUM(L5:L36) -> 1039 | ... N37: =SUM(N5:N36) -> 10174 | O37: =AVERAGE(B37:M37) -> 1130.4444 | P37: =SUM(P5:P36) -> 100
A39: * As Denúncias não estão sendo contabilizadas nessa aba da planilha, pois esses dados estão sendo exibidos em abas específicas.

Sheet 10+_SUB's_2026
A1: Controladoria Geral do Município - Ouvidoria Geral | P1: =Subprefeituras_2026!E37 -> 1186
A2: SIGRC - Sistema Integrado de Gerenciamento e Relacionamento com o Cidadão
A4: Subprefeituras - 10 mais demandados de 2026 (Média)
A6: Subprefeituras PMSP* | B6: 46357 | C6: 46327 | D6: 46296 | E6: 46266 | F6: 46235 | G6: 46204 | H6: 46174 | I6: 46143 | J6: 46113 | K6: 46082 | L6: 46054 | M6: 46023 | N6: Total | O6: Média | P6: % em relação ao todo de SET/26 (excetuando-se denúncias)
A7: Butantã | E7: 83 | F7: 88 | G7: 94 | H7: 118 | I7: 44 | J7: 102 | K7: 85 | L7: 65 | M7: 82 | N7: =SUM(B7:M7) -> 761 | O7: =AVERAGE(B7:M7) -> 84.555556 | P7: =(E7*100)/$P$1 -> 6.9983137
A8: Sé | E8: 91 | F8: 79 | G8: 76 | H8: 61 | I8: 65 | J8: 92 | K8: 89 | L8: 83 | M8: 72 | N8: =SUM(B8:M8) -> 708 | O8: =AVERAGE(B8:M8) -> 78.666667 | P8: =(E8*100)/$P$1 -> 7.6728499
A9: Ipiranga | E9: 75 | F9: 58 | G9: 55 | H9: 79 | I9: 93 | J9: 48 | K9: 56 | L9: 69 | M9: 85 | N9: =SUM(B9:M9) -> 618 | O9: =AVERAGE(B9:M9) -> 68.666667 | P9: =(E9*100)/$P$1 -> 6.3237774
A10: Santo Amaro | E10: 49 | F10: 89 | G10: 63 | H10: 53 | I10: 60 | J10: 59 | K10: 61 | L10: 45 | M10: 43 | N10: =SUM(B10:M10) -> 522 | O10: =AVERAGE(B10:M10) -> 58 | P10: =(E10*100)/$P$1 -> 4.1315346
A11: Itaquera | E11: 57 | F11: 55 | G11: 43 | H11: 73 | I11: 49 | J11: 64 | K11: 51 | L11: 40 | M11: 59 | N11: =SUM(B11:M11) -> 491 | O11: =AVERAGE(B11:M11) -> 54.555556 | P11: =(E11*100)/$P$1 -> 4.8060708
A12: Mooca | E12: 48 | F12: 52 | G12: 55 | H12: 59 | I12: 57 | J12: 54 | K12: 58 | L12: 43 | M12: 61 | N12: =SUM(B12:M12) -> 487 | O12: =AVERAGE(B12:M12) -> 54.111111 | P12: =(E12*100)/$P$1 -> 4.0472175
A13: Penha | E13: 59 | F13: 80 | G13: 44 | H13: 47 | I13: 58 | J13: 43 | K13: 50 | L13: 53 | M13: 52 | N13: =SUM(B13:M13) -> 486 | O13: =AVERAGE(B13:M13) -> 54 | P13: =(E13*100)/$P$1 -> 4.9747049
A14: Lapa | E14: 52 | F14: 56 | G14: 40 | H14: 34 | I14: 44 | J14: 55 | K14: 80 | L14: 61 | M14: 52 | N14: =SUM(B14:M14) -> 474 | O14: =AVERAGE(B14:M14) -> 52.666667 | P14: =(E14*100)/$P$1 -> 4.3844857
A15: Vila Mariana | E15: 57 | F15: 56 | G15: 43 | H15: 36 | I15: 59 | J15: 44 | K15: 62 | L15: 45 | M15: 34 | N15: =SUM(B15:M15) -> 436 | O15: =AVERAGE(B15:M15) -> 48.444444 | P15: =(E15*100)/$P$1 -> 4.8060708
A16: Pinheiros | E16: 67 | F16: 56 | G16: 40 | H16: 31 | I16: 48 | J16: 49 | K16: 47 | L16: 49 | M16: 42 | N16: =SUM(B16:M16) -> 429 | O16: =AVERAGE(B16:M16) -> 47.666667 | P16: =(E16*100)/$P$1 -> 5.6492411
A17: Total | E17: =SUM(E7:E16) -> 638 | F17: =SUM(F7:F16) -> 669 | G17: =SUM(G7:G16) -> 553 | H17: =SUM(H7:H16) -> 591 | I17: =SUM(I7:I16) -> 577 | J17: =SUM(J7:J16) -> 610 | K17: =SUM(K7:K16) -> 639 | L17: =SUM(L7:L16) -> 553 | M17: =SUM(M7:M16) -> 582 | N17: =SUM(B17:M17) -> 5412 | O17: =AVERAGE(B17:M17) -> 601.33333 | P17: =(E17*100)/$P$1 -> 53.794266
A18: Outros | P18: =100-P17 -> 46.205734
A36: * As Denúncias não estão sendo contabilizadas nessa aba da planilha, pois esses dados estão sendo exibidos em abas específicas.

Sheet Subs_-Variação_10_mais_2026
A1: Controladoria Geral do Município - Ouvidoria Geral
A2: SIGRC - Sistema Integrado de Gerenciamento e Relacionamento com o Cidadão
A4: Subprefeituras - variação dos 10 mais solicitadas de 2026 (MÉDIA)
A6: *Protocolos - valores absolutos do mês
A7: ** Variação percentual em relação ao mês imediatamente anterior.
B8: 96 | F8: 83 | J8: 61 | N8: 35
A9: ='10+_SUB''s_2026'!A7 -> Butantã | E9: ='10+_SUB''s_2026'!A8 -> Sé | I9: ='10+_SUB''s_2026'!A9 -> Ipiranga | M9: ='10+_SUB''s_2026'!A10 -> Santo Amaro
A10: Meses | B10: Protocolos* | C10: Variação** | E10: Meses | F10: Protocolos* | G10: Variação** | I10: Meses | J10: Protocolos* | K10: Variação** | M10: Meses | N10: Protocolos* | O10: Variação**
A11: 46023 | B11: ='10+_SUB''s_2026'!M7 -> 82 | C11: =((B11-B8)/B8)*100 -> -14.583333 | E11: 46023 | F11: ='10+_SUB''s_2026'!M8 -> 72 | G11: =((F11-F8)/F8)*100 -> -13.253012 | I11: 46023 | J11: ='10+_SUB''s_2026'!M9 -> 85 | K11: =((J11-J8)/J8)*100 -> 39.344262 | M11: 46023 | N11: ='10+_SUB''s_2026'!M10 -> 43 | O11: =((N11-N8)/N8)*100 -> 22.857143
A12: 46054 | B12: ='10+_SUB''s_2026'!L7 -> 65 | C12: =((B12-51)/51)*100 -> 27.45098 | E12: 46054 | F12: ='10+_SUB''s_2026'!L8 -> 83 | G12: =((F12-F11)/F11)*100 -> 15.277778 | I12: 46054 | J12: ='10+_SUB''s_2026'!L9 -> 69 | K12: =((J12-J11)/J11)*100 -> -18.823529 | M12: 46054 | N12: ='10+_SUB''s_2026'!L10 -> 45 | O12: =((N12-N11)/N11)*100 -> 4.6511628
A13: 46082 | B13: ='10+_SUB''s_2026'!K7 -> 85 | C13: =((B13-B12)/B12)*100 -> 30.769231 | E13: 46082 | F13: ='10+_SUB''s_2026'!$K$8 -> 89 | G13: =((F13-F12)/F12)*100 -> 7.2289157 | I13: 46082 | J13: ='10+_SUB''s_2026'!$K$9 -> 56 | K13: =((J13-J12)/J12)*100 -> -18.84058 | M13: 46082 | N13: ='10+_SUB''s_2026'!$K$10 -> 61 | O13: =((N13-N12)/N12)*100 -> 35.555556
A14: 46113 | B14: ='10+_SUB''s_2026'!J$7 -> 102 | C14: =((B14-B13)/B13)*100 -> 20 | E14: 46113 | F14: ='10+_SUB''s_2026'!J$8 -> 92 | G14: =((F14-F13)/F13)*100 -> 3.3707865 | I14: 46113 | J14: ='10+_SUB''s_2026'!J$9 -> 48 | K14: =((J14-J13)/J13)*100 -> -14.285714 | M14: 46113 | N14: ='10+_SUB''s_2026'!J$10 -> 59 | O14: =((N14-N13)/N13)*100 -> -3.2786885
A15: 46143 | B15: ='10+_SUB''s_2026'!I$7 -> 44 | C15: =((B15-B14)/B14)*100 -> -56.862745 | E15: 46143 | F15: ='10+_SUB''s_2026'!I$8 -> 65 | G15: =((F15-F14)/F14)*100 -> -29.347826 | I15: 46143 | J15: ='10+_SUB''s_2026'!I$9 -> 93 | K15: =((J15-J14)/J14)*100 -> 93.75 | M15: 46143 | N15: ='10+_SUB''s_2026'!I$10 -> 60 | O15: =((N15-N14)/N14)*100 -> 1.6949153
A16: 46174 | B16: ='10+_SUB''s_2026'!H$7 -> 118 | C16: =((B16-B15)/B15)*100 -> 168.18182 | E16: 46174 | F16: ='10+_SUB''s_2026'!H$8 -> 61 | G16: =((F16-F15)/F15)*100 -> -6.1538462 | I16: 46174 | J16: ='10+_SUB''s_2026'!H$9 -> 79 | K16: =((J16-J15)/J15)*100 -> -15.053763 | M16: 46174 | N16: ='10+_SUB''s_2026'!H$10 -> 53 | O16: =((N16-N15)/N15)*100 -> -11.666667
